BEGIN:VCALENDAR
VERSION:2.0
PRODID:-//IFSDA - ECPv6.15.20//NONSGML v1.0//EN
CALSCALE:GREGORIAN
METHOD:PUBLISH
X-ORIGINAL-URL:https://ifsda.org
X-WR-CALDESC:Events for IFSDA
REFRESH-INTERVAL;VALUE=DURATION:PT1H
X-Robots-Tag:noindex
X-PUBLISHED-TTL:PT1H
BEGIN:VTIMEZONE
TZID:UTC
BEGIN:STANDARD
TZOFFSETFROM:+0000
TZOFFSETTO:+0000
TZNAME:UTC
DTSTART:20250101T000000
END:STANDARD
END:VTIMEZONE
BEGIN:VEVENT
DTSTART;VALUE=DATE:20260515
DTEND;VALUE=DATE:20260518
DTSTAMP:20260420T164301
CREATED:20250928T140112Z
LAST-MODIFIED:20250928T140112Z
UID:1435-1778803200-1779062399@ifsda.org
SUMMARY:HUDDEX 2026
DESCRIPTION:Huddinge\, Sweden
URL:https://ifsda.org/event/huddex-2026/
END:VEVENT
END:VCALENDAR